BEGIN:VCALENDAR
VERSION:2.0
PRODID:-//Arbrea Labs - ECPv6.15.20//NONSGML v1.0//EN
CALSCALE:GREGORIAN
METHOD:PUBLISH
X-ORIGINAL-URL:https://arbrea-labs.com
X-WR-CALDESC:Events for Arbrea Labs
REFRESH-INTERVAL;VALUE=DURATION:PT1H
X-Robots-Tag:noindex
X-PUBLISHED-TTL:PT1H
BEGIN:VTIMEZONE
TZID:Europe/Zurich
BEGIN:DAYLIGHT
TZOFFSETFROM:+0100
TZOFFSETTO:+0200
TZNAME:CEST
DTSTART:20230326T010000
END:DAYLIGHT
BEGIN:STANDARD
TZOFFSETFROM:+0200
TZOFFSETTO:+0100
TZNAME:CET
DTSTART:20231029T010000
END:STANDARD
BEGIN:DAYLIGHT
TZOFFSETFROM:+0100
TZOFFSETTO:+0200
TZNAME:CEST
DTSTART:20240331T010000
END:DAYLIGHT
BEGIN:STANDARD
TZOFFSETFROM:+0200
TZOFFSETTO:+0100
TZNAME:CET
DTSTART:20241027T010000
END:STANDARD
BEGIN:DAYLIGHT
TZOFFSETFROM:+0100
TZOFFSETTO:+0200
TZNAME:CEST
DTSTART:20250330T010000
END:DAYLIGHT
BEGIN:STANDARD
TZOFFSETFROM:+0200
TZOFFSETTO:+0100
TZNAME:CET
DTSTART:20251026T010000
END:STANDARD
END:VTIMEZONE
BEGIN:VEVENT
DTSTART;VALUE=DATE:20240417
DTEND;VALUE=DATE:20240421
DTSTAMP:20260424T205826
CREATED:20240207T105519Z
LAST-MODIFIED:20240207T105519Z
UID:10000069-1713312000-1713657599@arbrea-labs.com
SUMMARY:SAPS ALL IN
DESCRIPTION:We are thrilled to announce that the Arbrea team will take part in the SAPS ALL IN Cartagena event\, celebrating its 10th anniversary\, from April 17th to April 20th\, 2024. Held at the beautiful Hotel Estelar in the breathtaking city of Cartagena de Indias\, Colombia\, this event promises to be a milestone occasion in the field of aesthetic plastic surgery. \nAs pioneers in cutting-edge medical technologies\, we at Arbrea Labs are excited to bring our expertise and innovative solutions to SAPS ALL IN. Our mission is to advance the field of aesthetic plastic surgery through the integration of technology and research\, and SAPS ALL IN provides the perfect platform to showcase our groundbreaking Arbrea solutions. \nArbrea solutions represent a transformative approach to patient care\, practice management\, and marketing for aesthetic professionals. Our flagship software combines augmented reality (AR) and 3D simulation technology\, patient management systems\, and our proprietary marketing booster\, Lindapp\, into one comprehensive platform. \nAt SAPS ALL IN\, attendees will have the opportunity to experience firsthand how Arbrea solutions can revolutionize their practice. From achieving reproducible surgical outcomes to analyzing case studies\, Arbrea empowers practitioners to stay at the forefront of industry trends and advancements. \nAs we celebrate the 10th anniversary of SAPS ALL IN\, we invite you to join us in Cartagena de Indias for an unforgettable experience. Visit our booth to learn more about Arbrea and discover how our innovative solutions can elevate your practice to new heights. Here’s to a decade of excellence in aesthetic plastic surgery\, and to many more years of innovation and collaboration ahead!
URL:https://arbrea-labs.com/event/saps-all-in/
LOCATION:HOTEL ESTELAR\, Carrera 1 Calle 12 esquina\, Cartagena de Indias\, 130001\, Colombia
ATTACH;FMTTYPE=image/png:https://arbrea-labs.com/wp-content/uploads/2024/02/CARTAGENA.png
ORGANIZER;CN="Arbrea Labs":MAILTO:info@arbrea-labs.com
GEO:10.410293;-75.5516005
X-APPLE-STRUCTURED-LOCATION;VALUE=URI;X-ADDRESS=HOTEL ESTELAR Carrera 1 Calle 12 esquina Cartagena de Indias 130001 Colombia;X-APPLE-RADIUS=500;X-TITLE=Carrera 1 Calle 12 esquina:geo:-75.5516005,10.410293
END:VEVENT
END:VCALENDAR